BEGIN:VCALENDAR
VERSION:2.0
PRODID:-//Plone.org//NONSGML plone.app.event//EN
X-WR-TIMEZONE:Europe/Brussels
BEGIN:VEVENT
SUMMARY:Till Hennings\, "Early Medieval Archives: The Evidence of the Dors
 al Notes"
DTSTART;VALUE=DATE:20240313
DTEND;VALUE=DATE:20240314
DTSTAMP;VALUE=DATE-TIME:20260422T130038Z
UID:4cb1499851684b819c5b94c710c4bd24
CATEGORIES:Conférences
CATEGORIES:PaTHs
CATEGORIES:PraME
CONTACT:Étienne Renard\, etienne.renard@unamur.be
CREATED;VALUE=DATE-TIME:20230925T194536Z
LAST-MODIFIED;VALUE=DATE-TIME:20231004T134219Z
LOCATION:UNamur\, Faculté de Philosophie et Lettres\, L34
URL:https://paths.unamur.be/prame/till-hennings-early-medieval-archives-th
 e-evidence-of-the-dorsal-notes
END:VEVENT
END:VCALENDAR
