BEGIN:VCALENDAR
VERSION:2.0
PRODID:-//Plone.org//NONSGML plone.app.event//EN
X-WR-TIMEZONE:Europe/Brussels
BEGIN:VEVENT
SUMMARY:Visualizing archaeological data: GIS mapping and network modeling.
  CReA Patrimoine Spring School 2022
DTSTART;VALUE=DATE:20220404
DTEND;VALUE=DATE:20220409
DTSTAMP;VALUE=DATE-TIME:20260422T125318Z
UID:bcb190c4bdc8491c93f27d06a45ede4d
CATEGORIES:Formation
CATEGORIES:PraME
CONTACT:Hagit Nol\, https://crea.centresphisoc.ulb.be/fr/evenement/crea-pa
 trimoine-spring-school-2022-visualizing-archaeological-data-gis-mapping-an
 d
CREATED;VALUE=DATE-TIME:20220314T151614Z
DESCRIPTION:Semaine de formation consacrée à l'analyse de réseaux organ
 isée par le "CReA Patrimoine" (ULB)\, en collaboration avec Nicolas Ruffi
 ni-Ronzani (UNamur / Archives de l'État).
LAST-MODIFIED;VALUE=DATE-TIME:20220314T152639Z
LOCATION:Bruxelles\, Université Libre de Bruxelles
URL:https://paths.unamur.be/prame/souper-des-anciens
END:VEVENT
END:VCALENDAR
