BEGIN:VCALENDAR
VERSION:2.0
PRODID:-//Plone.org//NONSGML plone.app.event//EN
X-WR-TIMEZONE:Europe/Brussels
BEGIN:VEVENT
SUMMARY:#révolution de l'écrit
DTSTART;TZID=Europe/Brussels;VALUE=DATE-TIME:20220402T100000
DTEND;TZID=Europe/Brussels;VALUE=DATE-TIME:20221106T110000
DTSTAMP;VALUE=DATE-TIME:20260422T132509Z
UID:a66aaf61697141d98f294f07cc9acfe7
CATEGORIES:Exposition
CATEGORIES:PraME
CONTACT:Aurélie Stuckens (MPMM)\, https://www.mpmm.be/a-voir/exposition-t
 emporaire
CREATED;VALUE=DATE-TIME:20220319T091713Z
DESCRIPTION:Exposition organisée par la Maison du Patrimoine médiéval m
 osan (MPMM\, Bouvignes)\, avec la participation de plusieurs membres du ce
 ntre de recherche.
LAST-MODIFIED;VALUE=DATE-TIME:20230104T214346Z
LOCATION:Maison du Patrimoine médiéval mosan (MPMM\, Bouvignes)
URL:https://paths.unamur.be/prame/revolution-de-lecrit
END:VEVENT
BEGIN:VTIMEZONE
TZID:Europe/Brussels
X-LIC-LOCATION:Europe/Brussels
BEGIN:DAYLIGHT
DTSTART;VALUE=DATE-TIME:20220327T030000
TZNAME:CEST
TZOFFSETFROM:+0100
TZOFFSETTO:+0200
END:DAYLIGHT
BEGIN:STANDARD
DTSTART;VALUE=DATE-TIME:20221030T020000
TZNAME:CET
TZOFFSETFROM:+0200
TZOFFSETTO:+0100
END:STANDARD
END:VTIMEZONE
END:VCALENDAR
