BEGIN:VCALENDAR
VERSION:2.0
PRODID:-//Plone.org//NONSGML plone.app.event//EN
X-WR-TIMEZONE:Europe/Brussels
BEGIN:VEVENT
SUMMARY:Piero Andrea Martina\, "Comment ? Pourquoi ? Pour qui ? Écriture
  et transmission des traductions monastiques du Nord-Est d’oïl (XIIe s
 iècle)"
DTSTART;VALUE=DATE:20240417
DTEND;VALUE=DATE:20240418
DTSTAMP;VALUE=DATE-TIME:20260422T124043Z
UID:2341f9ec742d40668a4f78545b590da7
CATEGORIES:Conférences
CATEGORIES:PraME
CATEGORIES:PaTHs
CONTACT:Étienne Renard\, etienne.renard@unamur.be
CREATED;VALUE=DATE-TIME:20230925T194133Z
LAST-MODIFIED;VALUE=DATE-TIME:20231004T134328Z
LOCATION:UNamur\, Faculté de Philosophie et Lettres\, L34
URL:https://paths.unamur.be/prame/piero-andrea-martina-comment-pourquoi-po
 ur-qui-ecriture-et-transmission-des-traductions-monastiques-du-nord-est-d2
 019oil-xiie-siecle
END:VEVENT
END:VCALENDAR
