BEGIN:VCALENDAR
VERSION:2.0
PRODID:-//Plone.org//NONSGML plone.app.event//EN
X-WR-TIMEZONE:Europe/Brussels
BEGIN:VEVENT
SUMMARY:Marie Dejoux\, "Un exemple de catégorie documentaire 'écran' :
  l’enquête administrative"
DTSTART;VALUE=DATE:20240228
DTEND;VALUE=DATE:20240229
DTSTAMP;VALUE=DATE-TIME:20260422T112548Z
UID:d876b53feb7e42ddbe6a06f979ec006b
CATEGORIES:Conférences
CATEGORIES:PraME
CATEGORIES:PaTHs
CONTACT:Étienne Renard\, etienne.renard@unamur.be
CREATED;VALUE=DATE-TIME:20230925T193249Z
LAST-MODIFIED;VALUE=DATE-TIME:20231004T134113Z
LOCATION:UNamur\, Faculté de Philosophie et Lettres\, L34
URL:https://paths.unamur.be/prame/marie-dejoux-un-exemple-de-categorie-doc
 umentaire-ecran-l2019enquete-administrative
END:VEVENT
END:VCALENDAR
