BEGIN:VCALENDAR
VERSION:2.0
PRODID:-//Plone.org//NONSGML plone.app.event//EN
X-WR-TIMEZONE:Europe/Brussels
BEGIN:VEVENT
SUMMARY:« Les matériaux de l’écrit médiéval : nouvelles perspective
 s offertes par les sciences du patrimoine » (partie 2)
DTSTART;VALUE=DATE:20231017
DTEND;VALUE=DATE:20231019
DTSTAMP;VALUE=DATE-TIME:20260422T111504Z
UID:6900c38af4b045858b4a813e08a2d5a6
CATEGORIES:Conférences
CATEGORIES:PraME
CATEGORIES:PaTHs
CONTACT:Nicolas Ruffini-Ronzani\, 4167\, nicolas.ruffini@unamur.be\, https
 ://rmblf.be/2023/09/11/cycle-de-conferences-les-materiaux-de-lecrit-mediev
 al-nouvelles-perspectives-offertes-par-les-sciences-du-patrimoine-par-oliv
 ier-deparis-david-gravis-et-nicolas-ruffini-ronz/
CREATED;VALUE=DATE-TIME:20230925T190409Z
LAST-MODIFIED;VALUE=DATE-TIME:20230925T190414Z
LOCATION:Palais provincial\, Namur
URL:https://paths.unamur.be/prame/les-materiaux-de-l2019ecrit-medieval-nou
 velles-perspectives-offertes-par-les-sciences-du-patrimoine-partie-2
END:VEVENT
END:VCALENDAR
