BEGIN:VCALENDAR
VERSION:2.0
PRODID:-//Plone.org//NONSGML plone.app.event//EN
X-WR-TIMEZONE:Europe/Brussels
BEGIN:VEVENT
SUMMARY:Faire de la sociologie historique – Séance 8. La sociologie his
 torique : une science sociale mondaine
DTSTART;VALUE=DATE:20250612
DTEND;VALUE=DATE:20250613
DTSTAMP;VALUE=DATE-TIME:20260422T130218Z
UID:f3919a3a013a4db38774f4dcc978b56c
CATEGORIES:Séminaire
CATEGORIES:Conférence
CATEGORIES:PraME
CATEGORIES:PaTHs
CONTACT:Alexis Fontbonne\, a.fontbonne84@gmail.com
CREATED;VALUE=DATE-TIME:20240926T172722Z
LAST-MODIFIED;VALUE=DATE-TIME:20240926T173420Z
LOCATION:Université de Namur – Faculté de Philosophie et Lettres\, loc
 al L24
URL:https://paths.unamur.be/prame/faire-de-la-sociologie-historique-2013-s
 eance-8-la-sociologie-historique-une-science-sociale-mondaine
END:VEVENT
END:VCALENDAR
