BEGIN:VCALENDAR
VERSION:2.0
PRODID:-//Plone.org//NONSGML plone.app.event//EN
X-WR-TIMEZONE:Europe/Brussels
BEGIN:VEVENT
SUMMARY:Faire de la sociologie historique – Séance 7. Les formes de l
 ’économie symbolique (2)
DTSTART;VALUE=DATE:20250515
DTEND;VALUE=DATE:20250516
DTSTAMP;VALUE=DATE-TIME:20260422T130101Z
UID:d9bdc8abeb39422f816d31fc05324256
CATEGORIES:Conférence
CATEGORIES:PaTHs
CATEGORIES:PraME
CATEGORIES:Séminaire
CONTACT:Alexis Fontbonne\, a.fontbonne84@gmail.com
CREATED;VALUE=DATE-TIME:20240926T172513Z
LAST-MODIFIED;VALUE=DATE-TIME:20241003T075024Z
LOCATION:Université de Namur – Faculté de Philosophie et Lettres\, loc
 al L24
URL:https://paths.unamur.be/prame/faire-de-la-sociologie-historique-2013-s
 eance-7-les-formes-de-l2019economie-symbolique-2
END:VEVENT
END:VCALENDAR
