BEGIN:VCALENDAR
VERSION:2.0
PRODID:-//Plone.org//NONSGML plone.app.event//EN
X-WR-TIMEZONE:Europe/Brussels
BEGIN:VEVENT
SUMMARY:Faire de la sociologie historique – Séance 3. L’approche idé
 al-typique (1)
DTSTART;VALUE=DATE:20250123
DTEND;VALUE=DATE:20250124
DTSTAMP;VALUE=DATE-TIME:20260422T133245Z
UID:c90c3bd91dd941b0a3ad9bfdcfafefdf
CATEGORIES:Conférence
CATEGORIES:PraME
CATEGORIES:PaTHs
CATEGORIES:Séminaire
CONTACT:Alexis Fontbonne\, a.fontbonne84@gmail.com
CREATED;VALUE=DATE-TIME:20240926T163611Z
LAST-MODIFIED;VALUE=DATE-TIME:20240928T074816Z
LOCATION:Université de Namur – Faculté de Philosophie et Lettres\, loc
 al L24
URL:https://paths.unamur.be/prame/faire-de-la-sociologie-historique-2013-s
 eance-3-l2019approche-ideal-typique-1
END:VEVENT
END:VCALENDAR
