BEGIN:VCALENDAR
VERSION:2.0
PRODID:-//Plone.org//NONSGML plone.app.event//EN
X-WR-TIMEZONE:Europe/Brussels
BEGIN:VEVENT
SUMMARY:Erik Niblaeus (Cambridge University) – Peace legislation and wri
 ting practices in eleventh- and twelfth-century Germany
DTSTART;TZID=Europe/Brussels;VALUE=DATE-TIME:20230329T161000
DTEND;TZID=Europe/Brussels;VALUE=DATE-TIME:20230329T181000
DTSTAMP;VALUE=DATE-TIME:20260422T133236Z
UID:1106086183e54e66851a9c35893d407c
CATEGORIES:Conférence
CATEGORIES:PraME
CONTACT:Étienne Renard\, etienne.renard@unamur.be
CREATED;VALUE=DATE-TIME:20221029T162833Z
LAST-MODIFIED;VALUE=DATE-TIME:20221029T162923Z
LOCATION:Local L43 (Séminaire Classiques)
URL:https://paths.unamur.be/prame/erik-niblaeus-cambridge-university-2013-
 peace-legislation-and-writing-practices-in-eleventh-and-twelfth-century-ge
 rmany
END:VEVENT
BEGIN:VTIMEZONE
TZID:Europe/Brussels
X-LIC-LOCATION:Europe/Brussels
BEGIN:DAYLIGHT
DTSTART;VALUE=DATE-TIME:20230326T030000
TZNAME:CEST
TZOFFSETFROM:+0100
TZOFFSETTO:+0200
END:DAYLIGHT
END:VTIMEZONE
END:VCALENDAR
