BEGIN:VCALENDAR
VERSION:2.0
PRODID:-//Plone.org//NONSGML plone.app.event//EN
X-WR-TIMEZONE:Europe/Brussels
BEGIN:VEVENT
SUMMARY:Élodie Attia (Université d’Aix-Marseille) – Les bibles hébr
 aïques médiévales produites avant 1300 : quantification et méthode
DTSTART;TZID=Europe/Brussels;VALUE=DATE-TIME:20230419T161000
DTEND;TZID=Europe/Brussels;VALUE=DATE-TIME:20230419T180000
DTSTAMP;VALUE=DATE-TIME:20260419T164921Z
UID:01bf6e97b1cc46b68498b1353902df34
CATEGORIES:Conférence
CATEGORIES:PraME
CONTACT:Étienne Renard\, etienne.renard@unamur.be
CREATED;VALUE=DATE-TIME:20221029T163833Z
LAST-MODIFIED;VALUE=DATE-TIME:20221029T163916Z
LOCATION:Local L43 (Séminaire Classiques)
URL:https://paths.unamur.be/prame/elodie-attia-universite-d2019aix-marseil
 le-2013-les-bibles-hebraiques-medievales-produites-avant-1300-quantificati
 on-et-methode
END:VEVENT
BEGIN:VTIMEZONE
TZID:Europe/Brussels
X-LIC-LOCATION:Europe/Brussels
BEGIN:DAYLIGHT
DTSTART;VALUE=DATE-TIME:20230326T030000
TZNAME:CEST
TZOFFSETFROM:+0100
TZOFFSETTO:+0200
END:DAYLIGHT
END:VTIMEZONE
END:VCALENDAR
