BEGIN:VCALENDAR
VERSION:2.0
PRODID:-//Plone.org//NONSGML plone.app.event//EN
X-WR-TIMEZONE:Europe/Brussels
BEGIN:VEVENT
SUMMARY:David Bardey\, "Les écritures de maître Raoul Floichart\, chan
 oine de Beaune et administrateur des ducs de Bourgogne (v. 1250-1288)"
DTSTART;VALUE=DATE:20231011
DTEND;VALUE=DATE:20231012
DTSTAMP;VALUE=DATE-TIME:20260422T124940Z
UID:88a265e76588407c8d56bf7134ffd9bb
CATEGORIES:PraME
CATEGORIES:Conférence
CATEGORIES:PaTHs
CONTACT:Étienne Renard\, etienne.renard@unamur.be
CREATED;VALUE=DATE-TIME:20230925T191524Z
LAST-MODIFIED;VALUE=DATE-TIME:20231004T133801Z
LOCATION:UNamur\, Faculté de Philosophie et Lettres\, L34
URL:https://paths.unamur.be/prame/david-bardey-les-ecritures-de-maitre-rao
 ul-floichart-chanoine-de-beaune-et-administrateur-des-ducs-de-bourgogne-v-
 1250-1288
END:VEVENT
END:VCALENDAR
