BEGIN:VCALENDAR
VERSION:2.0
PRODID:-//Plone.org//NONSGML plone.app.event//EN
X-WR-TIMEZONE:Europe/Brussels
BEGIN:VEVENT
SUMMARY:Conférence "Morinia Pontificia : repérer\, analyser\, éditer le
 s actes pontificaux du diocèse de Thérouanne jusqu’en 1198" (J-C. Béd
 ague)
DTSTART;TZID=Europe/Brussels;VALUE=DATE-TIME:20220525T161500
DTEND;TZID=Europe/Brussels;VALUE=DATE-TIME:20220525T181500
DTSTAMP;VALUE=DATE-TIME:20260422T130054Z
UID:9a782b155fae475d97426b8059f77840
CATEGORIES:PraME
CATEGORIES:Conférence
CONTACT:Etienne Renard\, etienne.renard@unamur.be
CREATED;VALUE=DATE-TIME:20220314T150410Z
DESCRIPTION:Conférence donnée dans le cadre du cycle de conférences org
 anisé par le centre « Pratiques médiévales de l’écrit » (PraME).
LAST-MODIFIED;VALUE=DATE-TIME:20220314T150425Z
LOCATION:Université de Namur - L43 (Séminaire de Classiques) - Faculté 
 de Philosophie et Lettres - 61\, rue de Bruxelles - 5000 Namur
URL:https://paths.unamur.be/prame/conference-morinia-pontificia-reperer-an
 alyser-editer-les-actes-pontificaux-du-diocese-de-therouanne-jusqu2019en-1
 198-j-c-bedague
END:VEVENT
BEGIN:VTIMEZONE
TZID:Europe/Brussels
X-LIC-LOCATION:Europe/Brussels
BEGIN:DAYLIGHT
DTSTART;VALUE=DATE-TIME:20220327T030000
TZNAME:CEST
TZOFFSETFROM:+0100
TZOFFSETTO:+0200
END:DAYLIGHT
END:VTIMEZONE
END:VCALENDAR
