BEGIN:VCALENDAR
VERSION:2.0
PRODID:-//Plone.org//NONSGML plone.app.event//EN
X-WR-TIMEZONE:Europe/Brussels
BEGIN:VEVENT
SUMMARY:Conférence "La "révolution" de papier. Une histoire sans "trace"
  en Bas-Languedoc (vers 1190-vers 1215)" (D. Panfili)
DTSTART;TZID=Europe/Brussels;VALUE=DATE-TIME:20220323T161500
DTEND;TZID=Europe/Brussels;VALUE=DATE-TIME:20220323T181500
DTSTAMP;VALUE=DATE-TIME:20260422T111504Z
UID:7a2246567fd848d7abc61c4d14705d41
CATEGORIES:PraME
CATEGORIES:Conférence
CONTACT:Etienne Renard\, etienne.renard@unamur.be
CREATED;VALUE=DATE-TIME:20220314T145943Z
DESCRIPTION:Conférence donnée dans le cadre du cycle de conférences org
 anisé par le centre « Pratiques médiévales de l’écrit » (PraME)
LAST-MODIFIED;VALUE=DATE-TIME:20220314T150015Z
LOCATION:Université de Namur - L43 (Séminaire de Classiques) - Faculté 
 de Philosophie et Lettres - 61\, rue de Bruxelles - 5000 Namur
URL:https://paths.unamur.be/prame/conference-la-revolution-de-papier-une-h
 istoire-sans-trace-en-bas-languedoc-vers-1190-vers-1215-d-panfili
END:VEVENT
BEGIN:VTIMEZONE
TZID:Europe/Brussels
X-LIC-LOCATION:Europe/Brussels
BEGIN:STANDARD
DTSTART;VALUE=DATE-TIME:20211031T020000
TZNAME:CET
TZOFFSETFROM:+0200
TZOFFSETTO:+0100
END:STANDARD
END:VTIMEZONE
END:VCALENDAR
