BEGIN:VCALENDAR
VERSION:2.0
PRODID:-//Plone.org//NONSGML plone.app.event//EN
X-WR-TIMEZONE:Europe/Brussels
BEGIN:VEVENT
SUMMARY:Conférence – Olivier Deparis\, "L'origine animale du parchemin 
 à l'épreuve de la bio-codicologie et des méthodes d'analyse non invasiv
 es"
DTSTART;VALUE=DATE:20240425
DTEND;VALUE=DATE:20240426
DTSTAMP;VALUE=DATE-TIME:20260419T164920Z
UID:45d6b1cf0461498b9d73f1d229069643
CATEGORIES:Conférence
CATEGORIES:PaTHs
CATEGORIES:PraME
CREATED;VALUE=DATE-TIME:20240325T201544Z
LAST-MODIFIED;VALUE=DATE-TIME:20240327T094725Z
LOCATION:Campus du Solbosch\, Bâtiment NA | Local NA.4.302
URL:https://paths.unamur.be/prame/conference-2013-olivier-deparis-lorigine
 -animale-du-parchemin-a-lepreuve-de-la-bio-codicologie-et-des-methodes-dan
 alyse-non-invasives
END:VEVENT
END:VCALENDAR
