BEGIN:VCALENDAR
VERSION:2.0
PRODID:-//Plone.org//NONSGML plone.app.event//EN
X-WR-TIMEZONE:Europe/Brussels
BEGIN:VEVENT
SUMMARY:Bénédicte Sère\, "Miscellanées ecclésiologiques\, entre doc
 trines polémiques et matérialités codicologiques"
DTSTART;VALUE=DATE:20240508
DTEND;VALUE=DATE:20240509
DTSTAMP;VALUE=DATE-TIME:20260422T112316Z
UID:ec6ac3980a834f62b23c62c79d210ab1
CATEGORIES:Conférences
CATEGORIES:PraME
CATEGORIES:PaTHs
CONTACT:Étienne Renard\, etienne.renard@unamur.be
CREATED;VALUE=DATE-TIME:20230925T193743Z
LAST-MODIFIED;VALUE=DATE-TIME:20231004T134407Z
LOCATION:UNamur\, Faculté de Philosophie et Lettres\, L34
URL:https://paths.unamur.be/prame/benedicte-sere-miscellanees-ecclesiologi
 ques-entre-doctrines-polemiques-et-materialites-codicologiques
END:VEVENT
END:VCALENDAR
