BEGIN:VCALENDAR
VERSION:2.0
PRODID:-//Plone.org//NONSGML plone.app.event//EN
X-WR-TIMEZONE:Europe/Brussels
BEGIN:VEVENT
SUMMARY:Midis de l'Institut PaTHs (2024-2025) – PraME
DTSTART;TZID=Europe/Brussels;VALUE=DATE-TIME:20241217T004500
DTEND;TZID=Europe/Brussels;VALUE=DATE-TIME:20241217T140000
DTSTAMP;VALUE=DATE-TIME:20260422T174102Z
UID:a0a314e9af2947958513d27d3544ffef
CATEGORIES:Conférence
CATEGORIES:Séminaire
CATEGORIES:PaTHs
CATEGORIES:PraME
CONTACT:Nicolas Ruffini-Ronzani\, nicolas.ruffini@unamur.be
CREATED;VALUE=DATE-TIME:20241007T075256Z
LAST-MODIFIED;VALUE=DATE-TIME:20241007T080348Z
LOCATION:Université de Namur – Faculté de Philosophie et Lettres\, loc
 al L34
URL:https://paths.unamur.be/midis-de-linstitut-paths-2024-2025-2013-prame
END:VEVENT
BEGIN:VTIMEZONE
TZID:Europe/Brussels
X-LIC-LOCATION:Europe/Brussels
BEGIN:STANDARD
DTSTART;VALUE=DATE-TIME:20241027T020000
TZNAME:CET
TZOFFSETFROM:+0200
TZOFFSETTO:+0100
END:STANDARD
END:VTIMEZONE
END:VCALENDAR
