BEGIN:VCALENDAR
VERSION:2.0
PRODID:-//Plone.org//NONSGML plone.app.event//EN
X-WR-TIMEZONE:Europe/Brussels
BEGIN:VEVENT
SUMMARY:Un trésor renaît ! Le chartrier des Comtes de Namur (1092-1619) 
 restauré et numérisé
DTSTART;VALUE=DATE:20180420
DTEND;VALUE=DATE:20180616
DTSTAMP;VALUE=DATE-TIME:20260422T180801Z
UID:1d51e3f99ed640c78291e1dc4bf3301c
CATEGORIES:PraME
CATEGORIES:Exposition
CREATED;VALUE=DATE-TIME:20210621T084141Z
DESCRIPTION:Exposition organisée par les Archives de l'État à Namur et 
 le centre de recherche "Pratiques médiévales de l'écrit"
LAST-MODIFIED;VALUE=DATE-TIME:20210621T084254Z
LOCATION:Archives de l’État à Namur\, boulevard Cauchy\, 41 - 5000 Nam
 ur
URL:https://paths.unamur.be/events/un-tresor-renait-le-chartrier-des-comte
 s-de-namur-1092-1619-restaure-et-numerise
END:VEVENT
END:VCALENDAR
