BEGIN:VCALENDAR
VERSION:2.0
PRODID:-//Plone.org//NONSGML plone.app.event//EN
X-WR-TIMEZONE:Europe/Brussels
BEGIN:VEVENT
SUMMARY:Webinaire PraME 2020-2021
DTSTART;TZID=Europe/Brussels;VALUE=DATE-TIME:20201123T210000
DTEND;TZID=Europe/Brussels;VALUE=DATE-TIME:20210507T220000
DTSTAMP;VALUE=DATE-TIME:20260422T180817Z
UID:d5266cbc5bd242d18f342afc15d3a065
CATEGORIES:PraME
CATEGORIES:Conférences
CONTACT:https://zoom.us/j/5994239729
CREATED;VALUE=DATE-TIME:20210620T193229Z
DESCRIPTION:Le centre PraME organise chaque année un cycle de séminaires
 -conférences. Lors de l'année académique 2020-2021\, le centre s'associ
 e au groupe de recherche "H37 - Histoire et cultures graphiques" pour orga
 niser un webinaire qui remplacera le séminaire habituel.
LAST-MODIFIED;VALUE=DATE-TIME:20210621T081742Z
LOCATION:En ligne
URL:https://paths.unamur.be/events/seminaire-prame-2020-2021-h-37-histoire
 -et-cultures-graphiques-pratiques-medievales-de-lecrit
END:VEVENT
BEGIN:VTIMEZONE
TZID:Europe/Brussels
X-LIC-LOCATION:Europe/Brussels
BEGIN:DAYLIGHT
DTSTART;VALUE=DATE-TIME:20210328T030000
TZNAME:CEST
TZOFFSETFROM:+0100
TZOFFSETTO:+0200
END:DAYLIGHT
BEGIN:STANDARD
DTSTART;VALUE=DATE-TIME:20201025T020000
TZNAME:CET
TZOFFSETFROM:+0200
TZOFFSETTO:+0100
END:STANDARD
END:VTIMEZONE
END:VCALENDAR
