BEGIN:VCALENDAR
VERSION:2.0
PRODID:-//Plone.org//NONSGML plone.app.event//EN
X-WR-TIMEZONE:Europe/Brussels
BEGIN:VEVENT
SUMMARY:Pratiques médiévales de l'écrit. Séminaires-conférences 2019-
 2020
DTSTART;TZID=Europe/Brussels;VALUE=DATE-TIME:20191030T100000
DTEND;TZID=Europe/Brussels;VALUE=DATE-TIME:20200613T110000
DTSTAMP;VALUE=DATE-TIME:20260422T144923Z
UID:aafba9d1afd14d9fa2a1060c52e3d390
CATEGORIES:PraME
CATEGORIES:Conférences
CONTACT:Xavier Hermand (UNamur)\, Jean-François Nieus (FNRS/UNamur)\, Gio
 vanni Palumbo (UNamur) et Étienne Renard (UNamur)
CREATED;VALUE=DATE-TIME:20210621T080701Z
DESCRIPTION:Cycle de conférences organisé par le centre « Pratiques mé
 diévales de l’écrit » (PraME) de l’Université de Namur.
LAST-MODIFIED;VALUE=DATE-TIME:20210621T081901Z
LOCATION:Séminaire du Département d'Histoire (3e étage)\, Faculté de P
 hilosophie et Lettres\, 61\, rue de Bruxelles\, 5000 Namur
URL:https://paths.unamur.be/events/pratiques-medievales-de-lecrit-seminair
 es-conferences-2019-2020
END:VEVENT
BEGIN:VTIMEZONE
TZID:Europe/Brussels
X-LIC-LOCATION:Europe/Brussels
BEGIN:STANDARD
DTSTART;VALUE=DATE-TIME:20191027T020000
TZNAME:CET
TZOFFSETFROM:+0200
TZOFFSETTO:+0100
END:STANDARD
BEGIN:DAYLIGHT
DTSTART;VALUE=DATE-TIME:20200329T030000
TZNAME:CEST
TZOFFSETFROM:+0100
TZOFFSETTO:+0200
END:DAYLIGHT
END:VTIMEZONE
END:VCALENDAR
