BEGIN:VCALENDAR
VERSION:2.0
PRODID:-//Plone.org//NONSGML plone.app.event//EN
X-WR-TIMEZONE:Europe/Brussels
BEGIN:VEVENT
SUMMARY:Pratiques médiévales de l'écrit. Séminaires-conférences 2017-
 2018
DTSTART;VALUE=DATE:20171213
DTEND;VALUE=DATE:20180524
DTSTAMP;VALUE=DATE-TIME:20260422T125932Z
UID:65ce2f16b5db49b5950a8e0f6091e799
CATEGORIES:Conférences
CATEGORIES:PraME
CONTACT:Xavier Hermand (UNamur)\, Jean-François Nieus (FNRS/UNamur)\, Gio
 vanni Palumbo (UNamur) et Étienne Renard (UNamur).
CREATED;VALUE=DATE-TIME:20210621T085140Z
DESCRIPTION:Cycle de conférences organisé par le centre « Pratiques mé
 diévales de l’écrit » (PraME) de l’Université de Namur.
LAST-MODIFIED;VALUE=DATE-TIME:20210621T085145Z
LOCATION:Séminaire du Département d'Histoire (3e étage) - Faculté de P
 hilosophie et Lettres - 61\, rue de Bruxelles - 5000 Namur
URL:https://paths.unamur.be/events/pratiques-medievales-de-lecrit-seminair
 es-conferences-2017-2018-1
END:VEVENT
END:VCALENDAR
