BEGIN:VCALENDAR
VERSION:2.0
PRODID:-//Plone.org//NONSGML plone.app.event//EN
X-WR-TIMEZONE:Europe/Brussels
BEGIN:VEVENT
SUMMARY:Pratiques médiévales de l'écrit. Séminaires-conférences 2015-
 2016
DTSTART;VALUE=DATE:20151109
DTEND;VALUE=DATE:20160429
DTSTAMP;VALUE=DATE-TIME:20260422T125932Z
UID:5c224c8227b843a7ae642a69575b82da
CATEGORIES:PraME
CATEGORIES:Conférences
CONTACT:Xavier Hermand (UNamur)\, Jean-François Nieus (FNRS/UNamur)\, Gio
 vanni Palumbo (UNamur) et Étienne Renard (UNamur)
CREATED;VALUE=DATE-TIME:20210621T090234Z
DESCRIPTION:Cycle de conférences organisé par le centre « Pratiques mé
 diévales de l’écrit » (PraME) de l’Université de Namur.
LAST-MODIFIED;VALUE=DATE-TIME:20210621T090238Z
LOCATION:Séminaire du Département d'Histoire (3e étage) - Faculté de P
 hilosophie et Lettres - 61\, rue de Bruxelles - 5000 Namur
URL:https://paths.unamur.be/events/pratiques-medievales-de-lecrit-seminair
 es-conferences-2015-2016
END:VEVENT
END:VCALENDAR
