BEGIN:VCALENDAR
VERSION:2.0
PRODID:-//Plone.org//NONSGML plone.app.event//EN
X-WR-TIMEZONE:Europe/Brussels
BEGIN:VEVENT
SUMMARY:Pratiques médiévales de l'écrit. Séminaires-conférences 2014-
 2015
DTSTART;VALUE=DATE:20141016
DTEND;VALUE=DATE:20150508
DTSTAMP;VALUE=DATE-TIME:20260422T145635Z
UID:7d67447a8e7d45a7b3ed63edad76aeec
CATEGORIES:PraME
CATEGORIES:Conférences
CONTACT:Xavier Hermand (UNamur)\, Jean-François Nieus (FNRS/UNamur)\, Gio
 vanni Palumbo (UNamur)\, Étienne Renard (UNamur) et Paul Bertrand (IRHT/U
 CL)
CREATED;VALUE=DATE-TIME:20210621T090809Z
DESCRIPTION:Cycle de conférences organisé par le centre « Pratiques mé
 diévales de l’écrit » (PraME) de l’Université de Namur.
LAST-MODIFIED;VALUE=DATE-TIME:20210621T090814Z
LOCATION:Séminaire du Département d'Histoire (3e étage) - Faculté de P
 hilosophie et Lettres - 61\, rue de Bruxelles – 5000 Namur
URL:https://paths.unamur.be/events/pratiques-medievales-de-lecrit-seminair
 es-conferences-2014-2015
END:VEVENT
END:VCALENDAR
