BEGIN:VCALENDAR
VERSION:2.0
PRODID:-//Plone.org//NONSGML plone.app.event//EN
X-WR-TIMEZONE:Europe/Brussels
BEGIN:VEVENT
SUMMARY:Pratiques médiévales de l'écrit. Séminaires-conférences 2013-
 2014
DTSTART;VALUE=DATE:20131118
DTEND;VALUE=DATE:20140516
DTSTAMP;VALUE=DATE-TIME:20260422T125918Z
UID:fff5bdfe14d54529be8392e3d379be36
CATEGORIES:PraME
CATEGORIES:Conférences
CONTACT:Xavier Hermand (UNamur)\, Jean-François Nieus (FNRS/UNamur)\, Gio
 vanni Palumbo (UNamur)\, Étienne Renard (UNamur) et Paul Bertrand (IRHT/U
 CL)
CREATED;VALUE=DATE-TIME:20210621T091450Z
DESCRIPTION:Cycle de conférences organisé par le centre « Pratiques mé
 diévales de l’écrit » (PraME) de l’Université de Namur.
LAST-MODIFIED;VALUE=DATE-TIME:20210621T091458Z
LOCATION:Séminaire du Département d'Histoire (3e étage) - Faculté de P
 hilosophie et Lettres - 61\, rue de Bruxelles - 5000 Namur
URL:https://paths.unamur.be/events/pratiques-medievales-de-lecrit-seminair
 es-conferences-2013-2014
END:VEVENT
END:VCALENDAR
