BEGIN:VCALENDAR
VERSION:2.0
PRODID:-//Plone.org//NONSGML plone.app.event//EN
X-WR-TIMEZONE:Europe/Brussels
BEGIN:VEVENT
SUMMARY:Pratiques médiévales de l'écrit. Séminaires-conférences 2011-
 2012
DTSTART;VALUE=DATE:20111020
DTEND;VALUE=DATE:20120316
DTSTAMP;VALUE=DATE-TIME:20260422T125808Z
UID:2bfe8169627042b09d79fc20ced72d35
CATEGORIES:PraME
CATEGORIES:Conférences
CONTACT:Xavier Hermand (UNamur)\, Jean-François Nieus (FNRS/UNamur)\, Gio
 vanni Palumbo (UNamur)\, Étienne Renard (UNamur) et Paul Bertrand (IRHT/U
 CL)
CREATED;VALUE=DATE-TIME:20210621T092651Z
DESCRIPTION:Cycle de conférences organisé par le centre « Pratiques mé
 diévales de l’écrit » (PraME) de l’Université de Namur.
LAST-MODIFIED;VALUE=DATE-TIME:20210621T092810Z
LOCATION:Séminaire du Département d'Histoire (3e étage) - Faculté de P
 hilosophie et Lettres - 61\, rue de Bruxelles - 5000 Namur
URL:https://paths.unamur.be/events/pratiques-medievales-de-lecrit-seminair
 es-conferences-2011-2012
END:VEVENT
END:VCALENDAR
