BEGIN:VCALENDAR
VERSION:2.0
PRODID:-//Plone.org//NONSGML plone.app.event//EN
X-WR-TIMEZONE:Europe/Brussels
BEGIN:VEVENT
SUMMARY:Pratiques médiévales de l'écrit. Séminaires-conférences 2010
DTSTART;VALUE=DATE:20100204
DTEND;VALUE=DATE:20100604
DTSTAMP;VALUE=DATE-TIME:20260422T154614Z
UID:9abc2d6f3aa4435a8c4db59e181fb7c7
CATEGORIES:PraME
CATEGORIES:Conférences
CONTACT:Xavier Hermand (UNamur)\, Jean-François Nieus (FNRS/UNamur)\, Gio
 vanni Palumbo (UNamur)\, Étienne Renard (UNamur) et Paul Bertrand (IRHT/U
 CL)
CREATED;VALUE=DATE-TIME:20210621T093100Z
DESCRIPTION:Cycle de conférences organisé par le centre « Pratiques mé
 diévales de l’écrit » (PraME) de l’Université de Namur.
LAST-MODIFIED;VALUE=DATE-TIME:20210621T093150Z
LOCATION:Séminaire du Département d'Histoire (3e étage) - Faculté de P
 hilosophie et Lettres - 61\, rue de Bruxelles - 5000 Namur
URL:https://paths.unamur.be/events/pratiques-medievales-de-lecrit-seminair
 es-conferences-2010
END:VEVENT
END:VCALENDAR
