BEGIN:VCALENDAR
VERSION:2.0
PRODID:-//Plone.org//NONSGML plone.app.event//EN
X-WR-TIMEZONE:Europe/Brussels
BEGIN:VEVENT
SUMMARY:Les manuscrits hagiographiques du nord de la France et de la Belgi
 que actuelle à la fin du Moyen Âge (XIVe-XVIe s.) : fabrication\, foncti
 ons et usages
DTSTART;VALUE=DATE:20190321
DTEND;VALUE=DATE:20190323
DTSTAMP;VALUE=DATE-TIME:20260422T180945Z
UID:e1a491a950664c0681ac3455609d346d
CATEGORIES:PraME
CATEGORIES:Colloque
CONTACT:Fernand Peloux (UNamur/UCLouvain)\, Xavier Hermand (UNamur)
CREATED;VALUE=DATE-TIME:20210621T083509Z
LAST-MODIFIED;VALUE=DATE-TIME:20210621T083549Z
LOCATION:UNamur (21 mars) et UCLouvain (22 mars)
URL:https://paths.unamur.be/events/les-manuscrits-hagiographiques-du-nord-
 de-la-france-et-de-la-belgique-actuelle-a-la-fin-du-moyen-age-xive-xvie-s-
 fabrication-fonctions-et-usages
END:VEVENT
END:VCALENDAR
