BEGIN:VCALENDAR
VERSION:2.0
PRODID:-//Plone.org//NONSGML plone.app.event//EN
X-WR-TIMEZONE:Europe/Brussels
BEGIN:VEVENT
SUMMARY:L'écrit comme instrument de pouvoir au Moyen Âge. 32e journée d
 'étude du RMBLF
DTSTART;VALUE=DATE:20150529
DTEND;VALUE=DATE:20150530
DTSTAMP;VALUE=DATE-TIME:20260422T161707Z
UID:74516c60cdd948b3b23f781b44da7f16
CATEGORIES:PraME
CATEGORIES:Colloque
CREATED;VALUE=DATE-TIME:20210621T090953Z
LAST-MODIFIED;VALUE=DATE-TIME:20210621T091006Z
LOCATION:Auditoire L21 (3e étage) - Faculté de Philosophie et Lettres - 
 61\, rue de Bruxelles - 5000 Namur
URL:https://paths.unamur.be/events/lecrit-comme-instrument-de-pouvoir-au-m
 oyen-age-32e-journee-detude-du-rmblf
END:VEVENT
END:VCALENDAR
