BEGIN:VCALENDAR
VERSION:2.0
PRODID:-//Plone.org//NONSGML plone.app.event//EN
X-WR-TIMEZONE:Europe/Brussels
BEGIN:VEVENT
SUMMARY:Le sceau dans les Pays-Bas méridionaux\, Xe-XVIe siècle. Entre c
 ontrainte sociale et affirmation de soi
DTSTART;VALUE=DATE:20141127
DTEND;VALUE=DATE:20141129
DTSTAMP;VALUE=DATE-TIME:20260422T174713Z
UID:15761269b2eb4d5587d59f3bded1a01c
CATEGORIES:PraME
CATEGORIES:Colloque
CONTACT:Marc Libert (AGR) et Jean-François Nieus (FNRS/UNamur)
CREATED;VALUE=DATE-TIME:20210621T091121Z
DESCRIPTION:Colloque organisé par les Archives générales du Royaume et 
 le centre « Pratiques médiévales de l’écrit » (PraME) de l’Univer
 sité de Namur.
LAST-MODIFIED;VALUE=DATE-TIME:20210621T091128Z
URL:https://paths.unamur.be/events/le-sceau-dans-les-pays-bas-meridionaux-
 xe-xvie-siecle-entre-contrainte-sociale-et-affirmation-de-soi
END:VEVENT
END:VCALENDAR
