BEGIN:VCALENDAR
VERSION:2.0
PRODID:-//Plone.org//NONSGML plone.app.event//EN
X-WR-TIMEZONE:Europe/Brussels
BEGIN:VEVENT
SUMMARY:Le pouvoir par les armes\, le pouvoir par les idées. 26e journée
  d'étude du RMBLF
DTSTART;VALUE=DATE:20120420
DTEND;VALUE=DATE:20120421
DTSTAMP;VALUE=DATE-TIME:20260423T061247Z
UID:3cd4c5b92fc2436eb7b6403e62cc59b1
CATEGORIES:PraME
CATEGORIES:Colloque
CREATED;VALUE=DATE-TIME:20210621T092533Z
LAST-MODIFIED;VALUE=DATE-TIME:20210621T092537Z
LOCATION:Salle des conseils (6e étage) - Faculté de Philosophie et Lettr
 es - 61\, rue de Bruxelles - 5000 Namur
URL:https://paths.unamur.be/events/le-pouvoir-par-les-armes-le-pouvoir-par
 -les-idees-26e-journee-detude-du-rmblf
END:VEVENT
END:VCALENDAR
