BEGIN:VCALENDAR
VERSION:2.0
PRODID:-//Plone.org//NONSGML plone.app.event//EN
X-WR-TIMEZONE:Europe/Brussels
BEGIN:VEVENT
SUMMARY:Atelier de la recherche virtuel PraME
DTSTART;VALUE=DATE:20210126
DTEND;VALUE=DATE:20210616
DTSTAMP;VALUE=DATE-TIME:20260422T112154Z
UID:d1b2b9214948411eb48ff18fe3c114d5
CATEGORIES:PraME
CATEGORIES:Conférences
CONTACT:Nicolas Michel\, Romain Waroquier\, nicolas.michel@unamur.be\, htt
 ps://zoom.us/j/2720795791
CREATED;VALUE=DATE-TIME:20210618T154950Z
LAST-MODIFIED;VALUE=DATE-TIME:20210621T081558Z
LOCATION:En ligne
URL:https://paths.unamur.be/events/atelier-de-la-recherche-virtuel-prame
END:VEVENT
END:VCALENDAR
