BEGIN:VCALENDAR
VERSION:2.0
PRODID:-//Plone.org//NONSGML plone.app.event//EN
X-WR-TIMEZONE:Europe/Brussels
BEGIN:VEVENT
SUMMARY:Exposition CENSURéE\, Namur 1917-2017. Traces - Vues d’artistes
DTSTART;VALUE=DATE:20171110
DTEND;VALUE=DATE:20180224
DTSTAMP;VALUE=DATE-TIME:20260422T221428Z
UID:477a2dac46ed45f79614aa074b064caf
CATEGORIES:Exposition
CATEGORIES:HiSI
CONTACT:Partenariat UNamur-AEN
CREATED;VALUE=DATE-TIME:20210903T123214Z
LAST-MODIFIED;VALUE=DATE-TIME:20210903T123242Z
LOCATION:Archives de l’Etat (Namur)
URL:https://paths.unamur.be/centre-de-recherches-en-histoire-son-et-images
 /exposition-censuree-namur-1917-2017-traces-vues-d2019artistes
END:VEVENT
END:VCALENDAR
