BEGIN:VCALENDAR
VERSION:2.0
PRODID:-//Plone.org//NONSGML plone.app.event//EN
X-WR-TIMEZONE:Europe/Brussels
BEGIN:VEVENT
SUMMARY:Conférence "Recherches récentes sur l'oppidum gaulois du Bois du
  Grand Bon Dieu à Thuin" (N. Paridaens)
DTSTART;TZID=Europe/Brussels;VALUE=DATE-TIME:20220322T130000
DTEND;TZID=Europe/Brussels;VALUE=DATE-TIME:20220322T140000
DTSTAMP;VALUE=DATE-TIME:20260422T083635Z
UID:60836b422c044818b928bb6dc0435d12
CATEGORIES:AcanthuM
CATEGORIES:Conférence
CONTACT:Fanny Martin\, fanny.martin@unamur.be
CREATED;VALUE=DATE-TIME:20220301T185530Z
LAST-MODIFIED;VALUE=DATE-TIME:20220314T150042Z
LOCATION:UNamur (local L32) - Rue de Bruxelles\, 61 - 5000 Namur
URL:https://paths.unamur.be/acanthum/recherches-recentes-sur-loppidum-gaul
 ois-du-bois-du-grand-bon-dieu-a-thuin
END:VEVENT
BEGIN:VTIMEZONE
TZID:Europe/Brussels
X-LIC-LOCATION:Europe/Brussels
BEGIN:STANDARD
DTSTART;VALUE=DATE-TIME:20211031T020000
TZNAME:CET
TZOFFSETFROM:+0200
TZOFFSETTO:+0100
END:STANDARD
END:VTIMEZONE
END:VCALENDAR
