BEGIN:VCALENDAR
VERSION:2.0
PRODID:-//Plone.org//NONSGML plone.app.event//EN
X-WR-TIMEZONE:Europe/Brussels
BEGIN:VEVENT
SUMMARY:Journée d'étude - Alexandrie et l'Orient romain
DTSTART;VALUE=DATE:20230331
DTEND;VALUE=DATE:20230401
DTSTAMP;VALUE=DATE-TIME:20260422T072007Z
UID:49fe804e780642d1b6d7409025c5f99b
CATEGORIES:journée d'étude
CATEGORIES:Alexandrie
CATEGORIES:AcanthuM
CONTACT:René Preys\, rene.preys@unamur.be
CREATED;VALUE=DATE-TIME:20230309T134004Z
LAST-MODIFIED;VALUE=DATE-TIME:20231114T132605Z
LOCATION:Faculté de Philosophie et Lettres - L24 et L31
URL:https://paths.unamur.be/acanthum/journee-detude
END:VEVENT
END:VCALENDAR
