BEGIN:VCALENDAR
VERSION:2.0
PRODID:-//Plone.org//NONSGML plone.app.event//EN
X-WR-TIMEZONE:Europe/Brussels
BEGIN:VEVENT
SUMMARY:Conférence « Le Grognon\, à Namur. Archéologie urbaine au conf
 luent Sambre-et-Meuse »
DTSTART;TZID=Europe/Brussels;VALUE=DATE-TIME:20200111T183000
DTEND;TZID=Europe/Brussels;VALUE=DATE-TIME:20200111T193000
DTSTAMP;VALUE=DATE-TIME:20260422T083635Z
UID:d847e1e89f134b37a36bae0b8c2bf6b6
CATEGORIES:Conférence
CATEGORIES:AcanthuM
CONTACT:Mathieu Piavaux\, mathieu.piavaux@unamur.be
CREATED;VALUE=DATE-TIME:20220117T100608Z
LAST-MODIFIED;VALUE=DATE-TIME:20220117T193101Z
LOCATION:UNamur (rue Grafé\, local L22)
URL:https://paths.unamur.be/acanthum/conference-le-grognon-a-namur-archeol
 ogie-urbaine-au-confluent-sambre-et-meuse
END:VEVENT
BEGIN:VTIMEZONE
TZID:Europe/Brussels
X-LIC-LOCATION:Europe/Brussels
BEGIN:STANDARD
DTSTART;VALUE=DATE-TIME:20191027T020000
TZNAME:CET
TZOFFSETFROM:+0200
TZOFFSETTO:+0100
END:STANDARD
END:VTIMEZONE
END:VCALENDAR
